BEGIN:VCALENDAR
VERSION:2.0
PRODID:-//Amerikazentrum Hamburg - ECPv6.15.20//NONSGML v1.0//EN
CALSCALE:GREGORIAN
METHOD:PUBLISH
X-ORIGINAL-URL:https://amerikazentrum.de
X-WR-CALDESC:Veranstaltungen für Amerikazentrum Hamburg
REFRESH-INTERVAL;VALUE=DURATION:PT1H
X-Robots-Tag:noindex
X-PUBLISHED-TTL:PT1H
BEGIN:VTIMEZONE
TZID:Europe/Berlin
BEGIN:DAYLIGHT
TZOFFSETFROM:+0100
TZOFFSETTO:+0200
TZNAME:CEST
DTSTART:20240331T010000
END:DAYLIGHT
BEGIN:STANDARD
TZOFFSETFROM:+0200
TZOFFSETTO:+0100
TZNAME:CET
DTSTART:20241027T010000
END:STANDARD
BEGIN:DAYLIGHT
TZOFFSETFROM:+0100
TZOFFSETTO:+0200
TZNAME:CEST
DTSTART:20250330T010000
END:DAYLIGHT
BEGIN:STANDARD
TZOFFSETFROM:+0200
TZOFFSETTO:+0100
TZNAME:CET
DTSTART:20251026T010000
END:STANDARD
BEGIN:DAYLIGHT
TZOFFSETFROM:+0100
TZOFFSETTO:+0200
TZNAME:CEST
DTSTART:20260329T010000
END:DAYLIGHT
BEGIN:STANDARD
TZOFFSETFROM:+0200
TZOFFSETTO:+0100
TZNAME:CET
DTSTART:20261025T010000
END:STANDARD
END:VTIMEZONE
BEGIN:VEVENT
DTSTART;TZID=Europe/Berlin:20251006T193000
DTEND;TZID=Europe/Berlin:20251006T213000
DTSTAMP:20260423T171501
CREATED:20250918T103115Z
LAST-MODIFIED:20250926T134219Z
UID:6765-1759779000-1759786200@amerikazentrum.de
SUMMARY:Ein Abend im Zeichen der Transatlantischen Freundschaft: Theater\, Dialog und Gemeinschaft
DESCRIPTION:Anlässlich des Deutsch-Amerikanischen Freundschaftstages und zur Feier der langjährigen Städtepartnerschaft zwischen Hamburg und Chicago lädt das English Theatre of Hamburg zu einem besonderen Abend voller Live-Performance\, kulturellem Austausch und Gemeinschaft ein. \nIm Mittelpunkt des Abends steht das gefeierte absurdische Theaterstück THE HUNCHBACK VARIATIONS von Mickle Maher\, vorgestellt von der in Chicago geborenen Regisseurin Rebecca Garron. Im Anschluss an das Stück werfen wir einen Blick auf die Theaterlandschaft Chicagos und das Erbe des Absurden im amerikanischen Theater. \nGanz im Sinne von Verbindung und Zusammenarbeit kommen zudem Vertreter verschiedener amerikanischer Clubs und Institutionen in Hamburg zu Wort. In kurzen Beiträgen stellen sie die lebendige und vielfältige transatlantische Gemeinschaft unserer Stadt vor. \nAbgerundet wird der Abend durch einige musikalische Überraschungen sowie einen gemütlichen Empfang\, der Raum für Austausch und Begegnung bietet. Gemeinsam feiern wir\, wie Kunst\, Freundschaft und kultureller Dialog uns immer wieder aufs Neue verbinden. \nAnton Tschechow schrieb am Ende seines Stücks Der Kirschgarten:\n„Plötzlich ertönt in der Ferne ein Ton\, wie aus dem Himmel kommend\, wie das Reißen einer Saite\, das langsam und traurig verklingt.“\nDiese Bühnenanweisung – eine der berühmtesten der Theatergeschichte – beschäftigt Klangdesigner seit über einem Jahrhundert. \nIn THE HUNCHBACK VARIATIONS nimmt sich der Dramatiker Mickle Maher dieser Herausforderung auf höchst absurde Weise an: Er lässt zwei der berühmtesten tauben Figuren der Kulturgeschichte – Ludwig van Beethoven und Quasimodo\, den fiktiven Glöckner von Notre-Dame – gemeinsam versuchen\, genau diesen Klang zu erschaffen. In elf humorvollen\, teils skurrilen Szenen („Variationen“) erleben wir ihr vergebliches Ringen – erschwert durch ihre Taubheit\, schlechte Arbeitsbedingungen und die Tatsache\, dass Beethoven Der Kirschgarten noch gar nicht zu Ende gelesen hat. \nDas Stück ist eine kluge und zugleich berührende Auseinandersetzung mit der Frage nach Klang\, Musik und Performance – und eine tiefgründige Meditation über künstlerische Zusammenarbeit und den kreativen Prozess. \n(Text: The English Theatre) \n  \nDas Amerikazentrum Hamburg unterstützt diesen besonderen Abend des English Theatre gerne.\nDiese Veranstaltung ist ein wunderbares Beispiel dafür\, wie deutsch-amerikanische Freundschaft durch Kultur und Kunst gestärkt wird. \n  \nJetzt Tickets sichern! \nAufgepasst: Wenn Sie den Code chicago eingeben\, erhalten Sie einen Rabatt von 5 EUR \n  \nWussten Sie schon?\nDer Deutsch-Amerikanische Freundschaftstag wird jedes Jahr am 6. Oktober gefeiert. Er wurde 1983 von US-Präsident Ronald Reagan ins Leben gerufen\, um die tiefen kulturellen\, historischen und politischen Verbindungen zwischen Deutschland und den USA zu würdigen. \nDieser Tag ehrt die Millionen Amerikanerinnen und Amerikaner deutscher Herkunft – eine der größten Bevölkerungsgruppen in den Vereinigten Staaten – und erinnert an die langjährige Partnerschaft beider Länder in Bereichen wie Diplomatie\, Handel\, Bildung\, Verteidigung\, Wissenschaft und Kultur.
URL:https://amerikazentrum.de/event/ein-abend-im-zeichen-der-transatlantischen-freundschaft-theater-dialog-und-gemeinschaft/
LOCATION:The English Theatre of Hamburg\, Lerchenfeld 14\, Hamburg\, 22081\, Germany
ATTACH;FMTTYPE=image/jpeg:https://amerikazentrum.de/wp-content/uploads/2025/09/HUNCHBACK-VARIATIONSS-2.jpg
END:VEVENT
END:VCALENDAR