BEGIN:VCALENDAR
VERSION:2.0
PRODID:-//Amerikazentrum Hamburg - ECPv6.15.20//NONSGML v1.0//EN
CALSCALE:GREGORIAN
METHOD:PUBLISH
X-ORIGINAL-URL:https://amerikazentrum.de
X-WR-CALDESC:Veranstaltungen für Amerikazentrum Hamburg
REFRESH-INTERVAL;VALUE=DURATION:PT1H
X-Robots-Tag:noindex
X-PUBLISHED-TTL:PT1H
BEGIN:VTIMEZONE
TZID:Europe/Berlin
BEGIN:DAYLIGHT
TZOFFSETFROM:+0100
TZOFFSETTO:+0200
TZNAME:CEST
DTSTART:20240331T010000
END:DAYLIGHT
BEGIN:STANDARD
TZOFFSETFROM:+0200
TZOFFSETTO:+0100
TZNAME:CET
DTSTART:20241027T010000
END:STANDARD
BEGIN:DAYLIGHT
TZOFFSETFROM:+0100
TZOFFSETTO:+0200
TZNAME:CEST
DTSTART:20250330T010000
END:DAYLIGHT
BEGIN:STANDARD
TZOFFSETFROM:+0200
TZOFFSETTO:+0100
TZNAME:CET
DTSTART:20251026T010000
END:STANDARD
BEGIN:DAYLIGHT
TZOFFSETFROM:+0100
TZOFFSETTO:+0200
TZNAME:CEST
DTSTART:20260329T010000
END:DAYLIGHT
BEGIN:STANDARD
TZOFFSETFROM:+0200
TZOFFSETTO:+0100
TZNAME:CET
DTSTART:20261025T010000
END:STANDARD
END:VTIMEZONE
BEGIN:VEVENT
DTSTART;TZID=Europe/Berlin:20251119T183000
DTEND;TZID=Europe/Berlin:20251119T183000
DTSTAMP:20260421T111237
CREATED:20251107T131257Z
LAST-MODIFIED:20251113T110457Z
UID:6792-1763577000-1763577000@amerikazentrum.de
SUMMARY:Mark Twain - An American Classic in Europe
DESCRIPTION:In this conversation with Holger Kersten\, American Studies scholar at the University of Halle\, we explore the life and work of Mark Twain\, one of the most iconic figures in American literature. We will discuss Twain’s career\, his major themes\, and his enduring impact on U.S. cultural history. A particular focus will be on his travels through Europe and Germany\, which profoundly influenced both his writing and his worldview. Finally\, we will look at the modern reception and contemporary reinterpretations of Twain’s texts – and consider why his humor\, satire\, and social critique continue to resonate today. If ever you had a question concerning this particular author\, you will get a chance to voice it. \n\nHolger Kersten: \nProf. Kersten’s academic work focuses on selected core issues in American literature and culture. In the context of literary studies\,\nparticular attention is paid to topics from the 19th century\, including research on Mark Twain and naturalist authors of the turn of the century. A central interest lies in researching the forms and functions of nonstandard languages in American literature. The focus of his examination of aspects of American culture is on German-American relations (national images) and issues and problems in the field of the environment and nature. His academic interest in humor research finds its subjects in American literature as well as in popular culture. \n  \nGottfried Haufe: \nGottfried Haufe is a radio presenter\, cultural manager and author. As a trained historian\, English scholar and educationalist\, many of his interests lie in the field of educational and mediation projects of all kinds. However\, topics relating to art and culture\, social co-operation\, innovation and future prospects also play an important role for him. \n\n  \nREGISTER HERE!
URL:https://amerikazentrum.de/event/mark-twain-an-american-classic-in-europe/
LOCATION:Zoom
ATTACH;FMTTYPE=image/jpeg:https://amerikazentrum.de/wp-content/uploads/2025/11/Website_Beitragsbilder-2.jpg
END:VEVENT
END:VCALENDAR